BEGIN:VCALENDAR
VERSION:2.0
PRODID:UnionActive
URL:http://opba.com/?zone=/unionactive/calendar.cfm&usecalsection=main
NAME:www.opba.com main
X-WR-CALNAME:www.opba.com main
DESCRIPTION:www.opba.com main
X-WR-CALDESC:www.opba.com main
REFRESH-INTERVAL;VALUE=DURATION:PT12H
X-PUBLISHED-TTL:PT12H
CALSCALE:GREGORIAN
METHOD:PUBLISH
BEGIN:VEVENT
UID:12574414@opba.com
SUMMARY:General Membership Meeting
DESCRIPTION:Contact:  \nLink for more information: http://opba.com/index.cfm?zone=/unionactive/view_calendar.cfm&calendarID=12574414&thisdate=03/07/2024&useCalSection=main
LOCATION:
URL:http://opba.com/index.cfm?zone=/unionactive/view_calendar.cfm&calendarID=12574414&thisdate=03/07/2024&useCalSection=main
DTSTART:20240308T030000Z
DTEND:20240308T040000Z
DTSTAMP:20240302T085504
TRIGGER:-PT60M
END:VEVENT
BEGIN:VEVENT
UID:12574406@opba.com
SUMMARY:Board of Directors Meeting
DESCRIPTION:Contact:  \nLink for more information: http://opba.com/index.cfm?zone=/unionactive/view_calendar.cfm&calendarID=12574406&thisdate=04/04/2024&useCalSection=main
LOCATION:
URL:http://opba.com/index.cfm?zone=/unionactive/view_calendar.cfm&calendarID=12574406&thisdate=04/04/2024&useCalSection=main
DTSTART:20240405T020000Z
DTEND:20240405T030000Z
DTSTAMP:20240302T085504
TRIGGER:-PT60M
END:VEVENT
BEGIN:VEVENT
UID:12574407@opba.com
SUMMARY:Board of Directors Meeting
DESCRIPTION:Contact:  \nLink for more information: http://opba.com/index.cfm?zone=/unionactive/view_calendar.cfm&calendarID=12574407&thisdate=06/06/2024&useCalSection=main
LOCATION:
URL:http://opba.com/index.cfm?zone=/unionactive/view_calendar.cfm&calendarID=12574407&thisdate=06/06/2024&useCalSection=main
DTSTART:20240607T020000Z
DTEND:20240607T030000Z
DTSTAMP:20240302T085504
TRIGGER:-PT60M
END:VEVENT
BEGIN:VEVENT
UID:12574408@opba.com
SUMMARY:Board of Directors Meeting
DESCRIPTION:Contact:  \nLink for more information: http://opba.com/index.cfm?zone=/unionactive/view_calendar.cfm&calendarID=12574408&thisdate=09/05/2024&useCalSection=main
LOCATION:
URL:http://opba.com/index.cfm?zone=/unionactive/view_calendar.cfm&calendarID=12574408&thisdate=09/05/2024&useCalSection=main
DTSTART:20240906T020000Z
DTEND:20240906T030000Z
DTSTAMP:20240302T085504
TRIGGER:-PT60M
END:VEVENT
BEGIN:VEVENT
UID:12574413@opba.com
SUMMARY:General Membership Meeting
DESCRIPTION:Contact:  \nLink for more information: http://opba.com/index.cfm?zone=/unionactive/view_calendar.cfm&calendarID=12574413&thisdate=10/03/2024&useCalSection=main
LOCATION:
URL:http://opba.com/index.cfm?zone=/unionactive/view_calendar.cfm&calendarID=12574413&thisdate=10/03/2024&useCalSection=main
DTSTART:20241004T020000Z
DTEND:20241004T030000Z
DTSTAMP:20240302T085504
TRIGGER:-PT60M
END:VEVENT
BEGIN:VEVENT
UID:12574409@opba.com
SUMMARY:Board of Directors Meeting
DESCRIPTION:Contact:  \nLink for more information: http://opba.com/index.cfm?zone=/unionactive/view_calendar.cfm&calendarID=12574409&thisdate=11/07/2024&useCalSection=main
LOCATION:
URL:http://opba.com/index.cfm?zone=/unionactive/view_calendar.cfm&calendarID=12574409&thisdate=11/07/2024&useCalSection=main
DTSTART:20241108T030000Z
DTEND:20241108T040000Z
DTSTAMP:20240302T085504
TRIGGER:-PT60M
END:VEVENT
BEGIN:VEVENT
UID:12574412@opba.com
SUMMARY:General Membership Meeting
DESCRIPTION:Contact:  \nLink for more information: http://opba.com/index.cfm?zone=/unionactive/view_calendar.cfm&calendarID=12574412&thisdate=12/05/2024&useCalSection=main
LOCATION:
URL:http://opba.com/index.cfm?zone=/unionactive/view_calendar.cfm&calendarID=12574412&thisdate=12/05/2024&useCalSection=main
DTSTART:20241206T030000Z
DTEND:20241206T040000Z
DTSTAMP:20240302T085504
TRIGGER:-PT60M
END:VEVENT
END:VCALENDAR
