BEGIN:VCALENDAR
VERSION:2.0
CALSCALE:GREGORIAN
PRODID:UnionActive
BEGIN:VEVENT
UID:12684680@opba.com
SUMMARY:Offices Are Closed
DESCRIPTION:Contact:  \nLink for more information: http://opba.com/index.cfm?zone=/unionactive/view_calendar.cfm&calendarID=12684680&thisdate=02/19/2024&useCalSection=main
LOCATION:
URL:http://opba.com/index.cfm?zone=/unionactive/view_calendar.cfm&calendarID=12684680&thisdate=02/19/2024&useCalSection=main
DTSTART:20240219T160000Z
DTEND:20240219T170000Z
DTSTAMP:20240302T085942
TRIGGER:-PT60M
END:VEVENT
END:VCALENDAR
