BEGIN:VCALENDAR
VERSION:2.0
CALSCALE:GREGORIAN
PRODID:UnionActive
BEGIN:VEVENT
UID:12574405@opba.com
SUMMARY:Board of Directors Meeting
DESCRIPTION:Contact:  \nLink for more information: http://opba.com/index.cfm?zone=/unionactive/view_calendar.cfm&calendarID=12574405&thisdate=02/01/2024&useCalSection=main
LOCATION:
URL:http://opba.com/index.cfm?zone=/unionactive/view_calendar.cfm&calendarID=12574405&thisdate=02/01/2024&useCalSection=main
DTSTART:20240202T030000Z
DTEND:20240202T040000Z
DTSTAMP:20240302T085947
TRIGGER:-PT60M
END:VEVENT
END:VCALENDAR
