BEGIN:VCALENDAR
VERSION:2.0
CALSCALE:GREGORIAN
PRODID:UnionActive
BEGIN:VEVENT
UID:12574404@opba.com
SUMMARY:Office Closed
DESCRIPTION:Contact:  \nLink for more information: http://opba.com/index.cfm?zone=/unionactive/view_calendar.cfm&calendarID=12574404&thisdate=01/01/2024&useCalSection=main
LOCATION:
URL:http://opba.com/index.cfm?zone=/unionactive/view_calendar.cfm&calendarID=12574404&thisdate=01/01/2024&useCalSection=main
DTSTART:20240101T160000Z
DTEND:20240101T170000Z
DTSTAMP:20240302T085943
TRIGGER:-PT60M
END:VEVENT
END:VCALENDAR
