BEGIN:VCALENDAR
VERSION:2.0
CALSCALE:GREGORIAN
PRODID:UnionActive
BEGIN:VEVENT
UID:12574403@opba.com
SUMMARY:Office Closing at 12:30pm
DESCRIPTION:Contact:  \nLink for more information: http://opba.com/index.cfm?zone=/unionactive/view_calendar.cfm&calendarID=12574403&thisdate=12/29/2023&useCalSection=main
LOCATION:
URL:http://opba.com/index.cfm?zone=/unionactive/view_calendar.cfm&calendarID=12574403&thisdate=12/29/2023&useCalSection=main
DTSTART:20231229T160000Z
DTEND:20231229T170000Z
DTSTAMP:20240302T090017
TRIGGER:-PT60M
END:VEVENT
END:VCALENDAR
