BEGIN:VCALENDAR
VERSION:2.0
CALSCALE:GREGORIAN
PRODID:UnionActive
BEGIN:VEVENT
UID:12574402@opba.com
SUMMARY:Office Closed
DESCRIPTION:Contact:  \nLink for more information: http://opba.com/index.cfm?zone=/unionactive/view_calendar.cfm&calendarID=12574402&thisdate=12/26/2023&useCalSection=main
LOCATION:
URL:http://opba.com/index.cfm?zone=/unionactive/view_calendar.cfm&calendarID=12574402&thisdate=12/26/2023&useCalSection=main
DTSTART:20231226T160000Z
DTEND:20231226T170000Z
DTSTAMP:20240302T090018
TRIGGER:-PT60M
END:VEVENT
END:VCALENDAR
