BEGIN:VCALENDAR
VERSION:2.0
CALSCALE:GREGORIAN
PRODID:UnionActive
BEGIN:VEVENT
UID:12533942@opba.com
SUMMARY:Office Closed
DESCRIPTION:Contact:  \nLink for more information: http://opba.com/index.cfm?zone=/unionactive/view_calendar.cfm&calendarID=12533942&thisdate=10/09/2023&useCalSection=main
LOCATION:
URL:http://opba.com/index.cfm?zone=/unionactive/view_calendar.cfm&calendarID=12533942&thisdate=10/09/2023&useCalSection=main
DTSTART:20231009T070000Z
DTEND:20231010T064500Z
DTSTAMP:20240302T090015
TRIGGER:-PT60M
END:VEVENT
END:VCALENDAR
