BEGIN:VCALENDAR
VERSION:2.0
CALSCALE:GREGORIAN
PRODID:UnionActive
BEGIN:VEVENT
UID:12530327@opba.com
SUMMARY:Office Closed
DESCRIPTION:Contact:  \nLink for more information: http://opba.com/index.cfm?zone=/unionactive/view_calendar.cfm&calendarID=12530327&thisdate=09/04/2023&useCalSection=main
LOCATION:
URL:http://opba.com/index.cfm?zone=/unionactive/view_calendar.cfm&calendarID=12530327&thisdate=09/04/2023&useCalSection=main
DTSTART:20230904T070000Z
DTEND:20230904T070000Z
DTSTAMP:20240302T090016
TRIGGER:-PT60M
END:VEVENT
END:VCALENDAR
