BEGIN:VCALENDAR
VERSION:2.0
CALSCALE:GREGORIAN
PRODID:UnionActive
BEGIN:VEVENT
UID:12503410@opba.com
SUMMARY:Office Closed
DESCRIPTION:Contact:  \nLink for more information: http://opba.com/index.cfm?zone=/unionactive/view_calendar.cfm&calendarID=12503410&thisdate=07/04/2023&useCalSection=main
LOCATION:
URL:http://opba.com/index.cfm?zone=/unionactive/view_calendar.cfm&calendarID=12503410&thisdate=07/04/2023&useCalSection=main
DTSTART:20230704T070000Z
DTEND:20230704T070000Z
DTSTAMP:20240302T090015
TRIGGER:-PT60M
END:VEVENT
END:VCALENDAR
