BEGIN:VCALENDAR
VERSION:2.0
CALSCALE:GREGORIAN
PRODID:UnionActive
BEGIN:VEVENT
UID:12407798@opba.com
SUMMARY:Board of Directors Meeting
DESCRIPTION:Contact:  \nLink for more information: http://opba.com/index.cfm?zone=/unionactive/view_calendar.cfm&calendarID=12407798&thisdate=06/01/2023&useCalSection=main
LOCATION:North Royalton Office
URL:http://opba.com/index.cfm?zone=/unionactive/view_calendar.cfm&calendarID=12407798&thisdate=06/01/2023&useCalSection=main
DTSTART:20230602T020000Z
DTEND:20230602T030000Z
DTSTAMP:20240302T090015
TRIGGER:-PT60M
END:VEVENT
END:VCALENDAR
