BEGIN:VCALENDAR
VERSION:2.0
CALSCALE:GREGORIAN
PRODID:UnionActive
BEGIN:VEVENT
UID:12407797@opba.com
SUMMARY:Board of Directors Meeting
DESCRIPTION:Contact:  \nLink for more information: http://opba.com/index.cfm?zone=/unionactive/view_calendar.cfm&calendarID=12407797&thisdate=04/06/2023&useCalSection=main
LOCATION:North Royalton Office
URL:http://opba.com/index.cfm?zone=/unionactive/view_calendar.cfm&calendarID=12407797&thisdate=04/06/2023&useCalSection=main
DTSTART:20230407T020000Z
DTEND:20230407T030000Z
DTSTAMP:20240302T090014
TRIGGER:-PT60M
END:VEVENT
END:VCALENDAR
