BEGIN:VCALENDAR
VERSION:2.0
CALSCALE:GREGORIAN
PRODID:UnionActive
BEGIN:VEVENT
UID:12407796@opba.com
SUMMARY:General Membership Meeting
DESCRIPTION:Contact:  \nLink for more information: http://opba.com/index.cfm?zone=/unionactive/view_calendar.cfm&calendarID=12407796&thisdate=12/07/2023&useCalSection=main
LOCATION:North Royalton Office
URL:http://opba.com/index.cfm?zone=/unionactive/view_calendar.cfm&calendarID=12407796&thisdate=12/07/2023&useCalSection=main
DTSTART:20231208T030000Z
DTEND:20231208T040000Z
DTSTAMP:20240302T090014
TRIGGER:-PT60M
END:VEVENT
END:VCALENDAR
