BEGIN:VCALENDAR
VERSION:2.0
CALSCALE:GREGORIAN
PRODID:UnionActive
BEGIN:VEVENT
UID:12407795@opba.com
SUMMARY:General Membership Meeting
DESCRIPTION:Contact:  \nLink for more information: http://opba.com/index.cfm?zone=/unionactive/view_calendar.cfm&calendarID=12407795&thisdate=10/05/2023&useCalSection=main
LOCATION:North Royalton Office
URL:http://opba.com/index.cfm?zone=/unionactive/view_calendar.cfm&calendarID=12407795&thisdate=10/05/2023&useCalSection=main
DTSTART:20231006T020000Z
DTEND:20231006T030000Z
DTSTAMP:20240302T090017
TRIGGER:-PT60M
END:VEVENT
END:VCALENDAR
