BEGIN:VCALENDAR
VERSION:2.0
CALSCALE:GREGORIAN
PRODID:UnionActive
BEGIN:VEVENT
UID:12386061@opba.com
SUMMARY:Member Seminar
DESCRIPTION:Contact:  \nLink for more information: http://opba.com/index.cfm?zone=/unionactive/view_calendar.cfm&calendarID=12386061&thisdate=03/31/2023&useCalSection=main
LOCATION:OPBA North Roylaton Office or Zoom
URL:http://opba.com/index.cfm?zone=/unionactive/view_calendar.cfm&calendarID=12386061&thisdate=03/31/2023&useCalSection=main
DTSTART:20230331T160000Z
DTEND:20230401T000000Z
DTSTAMP:20240302T090018
TRIGGER:-PT60M
END:VEVENT
END:VCALENDAR
