BEGIN:VCALENDAR
VERSION:2.0
CALSCALE:GREGORIAN
PRODID:UnionActive
BEGIN:VEVENT
UID:12340646@opba.com
SUMMARY:Office Closed
DESCRIPTION:Contact:  \nLink for more information: http://opba.com/index.cfm?zone=/unionactive/view_calendar.cfm&calendarID=12340646&thisdate=12/26/2022&useCalSection=main
LOCATION:
URL:http://opba.com/index.cfm?zone=/unionactive/view_calendar.cfm&calendarID=12340646&thisdate=12/26/2022&useCalSection=main
DTSTART:20221226T080000Z
DTEND:20221226T080000Z
DTSTAMP:20240302T090231
TRIGGER:-PT60M
END:VEVENT
END:VCALENDAR
