BEGIN:VCALENDAR
VERSION:2.0
CALSCALE:GREGORIAN
PRODID:UnionActive
BEGIN:VEVENT
UID:12256449@opba.com
SUMMARY:Labor Day - Office Closed
DESCRIPTION:Contact:  \nLink for more information: http://opba.com/index.cfm?zone=/unionactive/view_calendar.cfm&calendarID=12256449&thisdate=09/05/2022&useCalSection=main
LOCATION:
URL:http://opba.com/index.cfm?zone=/unionactive/view_calendar.cfm&calendarID=12256449&thisdate=09/05/2022&useCalSection=main
DTSTART:20220905T153000Z
DTEND:20220905T233000Z
DTSTAMP:20240302T090232
TRIGGER:-PT60M
END:VEVENT
END:VCALENDAR
