BEGIN:VCALENDAR
VERSION:2.0
CALSCALE:GREGORIAN
PRODID:UnionActive
BEGIN:VEVENT
UID:12026630@opba.com
SUMMARY:General Membership Meeting
DESCRIPTION:Contact:  \nLink for more information: http://opba.com/index.cfm?zone=/unionactive/view_calendar.cfm&calendarID=12026630&thisdate=12/01/2022&useCalSection=main
LOCATION:
URL:http://opba.com/index.cfm?zone=/unionactive/view_calendar.cfm&calendarID=12026630&thisdate=12/01/2022&useCalSection=main
DTSTART:20221202T030000Z
DTEND:20221202T040000Z
DTSTAMP:20240302T090233
TRIGGER:-PT60M
END:VEVENT
END:VCALENDAR
