BEGIN:VCALENDAR
VERSION:2.0
CALSCALE:GREGORIAN
PRODID:UnionActive
BEGIN:VEVENT
UID:12026629@opba.com
SUMMARY:Directors Meeting
DESCRIPTION:Contact:  \nLink for more information: http://opba.com/index.cfm?zone=/unionactive/view_calendar.cfm&calendarID=12026629&thisdate=11/03/2022&useCalSection=main
LOCATION:
URL:http://opba.com/index.cfm?zone=/unionactive/view_calendar.cfm&calendarID=12026629&thisdate=11/03/2022&useCalSection=main
DTSTART:20221104T020000Z
DTEND:20221104T030000Z
DTSTAMP:20240302T090230
TRIGGER:-PT60M
END:VEVENT
END:VCALENDAR
