BEGIN:VCALENDAR
VERSION:2.0
CALSCALE:GREGORIAN
PRODID:UnionActive
BEGIN:VEVENT
UID:12026628@opba.com
SUMMARY:General Membership Meeting
DESCRIPTION:Contact:  \nLink for more information: http://opba.com/index.cfm?zone=/unionactive/view_calendar.cfm&calendarID=12026628&thisdate=10/06/2022&useCalSection=main
LOCATION:
URL:http://opba.com/index.cfm?zone=/unionactive/view_calendar.cfm&calendarID=12026628&thisdate=10/06/2022&useCalSection=main
DTSTART:20221007T020000Z
DTEND:20221007T030000Z
DTSTAMP:20240302T090230
TRIGGER:-PT60M
END:VEVENT
END:VCALENDAR
