BEGIN:VCALENDAR
VERSION:2.0
CALSCALE:GREGORIAN
PRODID:UnionActive
BEGIN:VEVENT
UID:12026626@opba.com
SUMMARY:Directors Meeting
DESCRIPTION:Contact:  \nLink for more information: http://opba.com/index.cfm?zone=/unionactive/view_calendar.cfm&calendarID=12026626&thisdate=06/02/2022&useCalSection=main
LOCATION:
URL:http://opba.com/index.cfm?zone=/unionactive/view_calendar.cfm&calendarID=12026626&thisdate=06/02/2022&useCalSection=main
DTSTART:20220603T020000Z
DTEND:20220603T030000Z
DTSTAMP:20240302T090234
TRIGGER:-PT60M
END:VEVENT
END:VCALENDAR
