BEGIN:VCALENDAR
VERSION:2.0
CALSCALE:GREGORIAN
PRODID:UnionActive
BEGIN:VEVENT
UID:12026624@opba.com
SUMMARY:General Membership Meeting
DESCRIPTION:Contact:  \nLink for more information: http://opba.com/index.cfm?zone=/unionactive/view_calendar.cfm&calendarID=12026624&thisdate=03/03/2022&useCalSection=main
LOCATION:
URL:http://opba.com/index.cfm?zone=/unionactive/view_calendar.cfm&calendarID=12026624&thisdate=03/03/2022&useCalSection=main
DTSTART:20220304T030000Z
DTEND:20220304T040000Z
DTSTAMP:20240302T090231
TRIGGER:-PT60M
END:VEVENT
END:VCALENDAR
