BEGIN:VCALENDAR
VERSION:2.0
CALSCALE:GREGORIAN
PRODID:UnionActive
BEGIN:VEVENT
UID:12026623@opba.com
SUMMARY:Directors Meeting
DESCRIPTION:Contact:  \nLink for more information: http://opba.com/index.cfm?zone=/unionactive/view_calendar.cfm&calendarID=12026623&thisdate=02/03/2022&useCalSection=main
LOCATION:
URL:http://opba.com/index.cfm?zone=/unionactive/view_calendar.cfm&calendarID=12026623&thisdate=02/03/2022&useCalSection=main
DTSTART:20220204T030000Z
DTEND:20220204T040000Z
DTSTAMP:20240302T090230
TRIGGER:-PT60M
END:VEVENT
END:VCALENDAR
