BEGIN:VCALENDAR
VERSION:2.0
CALSCALE:GREGORIAN
PRODID:UnionActive
BEGIN:VEVENT
UID:11581626@opba.com
SUMMARY:OPBA General Membership Meeting
DESCRIPTION:Contact:  \nLink for more information: http://opba.com/index.cfm?zone=/unionactive/view_calendar.cfm&calendarID=11581626&thisdate=12/02/2021&useCalSection=main
LOCATION:
URL:http://opba.com/index.cfm?zone=/unionactive/view_calendar.cfm&calendarID=11581626&thisdate=12/02/2021&useCalSection=main
DTSTART:20211203T030000Z
DTEND:20211203T040000Z
DTSTAMP:20240302T090328
TRIGGER:-PT60M
END:VEVENT
END:VCALENDAR
