BEGIN:VCALENDAR
VERSION:2.0
CALSCALE:GREGORIAN
PRODID:UnionActive
BEGIN:VEVENT
UID:11581624@opba.com
SUMMARY:OPBA General Membership Meeting
DESCRIPTION:Contact:  \nLink for more information: http://opba.com/index.cfm?zone=/unionactive/view_calendar.cfm&calendarID=11581624&thisdate=03/04/2021&useCalSection=main
LOCATION:
URL:http://opba.com/index.cfm?zone=/unionactive/view_calendar.cfm&calendarID=11581624&thisdate=03/04/2021&useCalSection=main
DTSTART:20210305T030000Z
DTEND:20210305T040000Z
DTSTAMP:20240302T090329
TRIGGER:-PT60M
END:VEVENT
END:VCALENDAR
