BEGIN:VCALENDAR
VERSION:2.0
CALSCALE:GREGORIAN
PRODID:UnionActive
BEGIN:VEVENT
UID:11581620@opba.com
SUMMARY:OPBA Board of Directors' Meeting
DESCRIPTION:Contact:  \nLink for more information: http://opba.com/index.cfm?zone=/unionactive/view_calendar.cfm&calendarID=11581620&thisdate=04/01/2021&useCalSection=main
LOCATION:
URL:http://opba.com/index.cfm?zone=/unionactive/view_calendar.cfm&calendarID=11581620&thisdate=04/01/2021&useCalSection=main
DTSTART:20210402T010000Z
DTEND:20210402T020000Z
DTSTAMP:20240302T090332
TRIGGER:-PT60M
END:VEVENT
END:VCALENDAR
