BEGIN:VCALENDAR
VERSION:2.0
CALSCALE:GREGORIAN
PRODID:UnionActive
BEGIN:VEVENT
UID:11581619@opba.com
SUMMARY:OPBA Board of Directors' Meeting
DESCRIPTION:Contact:  \nLink for more information: http://opba.com/index.cfm?zone=/unionactive/view_calendar.cfm&calendarID=11581619&thisdate=02/04/2021&useCalSection=main
LOCATION:
URL:http://opba.com/index.cfm?zone=/unionactive/view_calendar.cfm&calendarID=11581619&thisdate=02/04/2021&useCalSection=main
DTSTART:20210205T020000Z
DTEND:20210205T030000Z
DTSTAMP:20240302T090330
TRIGGER:-PT60M
END:VEVENT
END:VCALENDAR
