BEGIN:VCALENDAR
VERSION:2.0
CALSCALE:GREGORIAN
PRODID:UnionActive
BEGIN:VEVENT
UID:11273977@opba.com
SUMMARY:OPBA General Membership Meeting
DESCRIPTION:Contact:  \nLink for more information: http://opba.com/index.cfm?zone=/unionactive/view_calendar.cfm&calendarID=11273977&thisdate=12/03/2020&useCalSection=main
LOCATION:
URL:http://opba.com/index.cfm?zone=/unionactive/view_calendar.cfm&calendarID=11273977&thisdate=12/03/2020&useCalSection=main
DTSTART:20201204T030000Z
DTEND:20201204T040000Z
DTSTAMP:20240302T090456
TRIGGER:-PT60M
END:VEVENT
END:VCALENDAR
