BEGIN:VCALENDAR
VERSION:2.0
CALSCALE:GREGORIAN
PRODID:UnionActive
BEGIN:VEVENT
UID:11273976@opba.com
SUMMARY:OPBA General Membership Meeting
DESCRIPTION:Contact:  \nLink for more information: http://opba.com/index.cfm?zone=/unionactive/view_calendar.cfm&calendarID=11273976&thisdate=10/01/2020&useCalSection=main
LOCATION:
URL:http://opba.com/index.cfm?zone=/unionactive/view_calendar.cfm&calendarID=11273976&thisdate=10/01/2020&useCalSection=main
DTSTART:20201002T020000Z
DTEND:20201002T030000Z
DTSTAMP:20240302T090453
TRIGGER:-PT60M
END:VEVENT
END:VCALENDAR
