BEGIN:VCALENDAR
VERSION:2.0
CALSCALE:GREGORIAN
PRODID:UnionActive
BEGIN:VEVENT
UID:11273975@opba.com
SUMMARY:OPBA General Membership Meeting
DESCRIPTION:Contact:  \nLink for more information: http://opba.com/index.cfm?zone=/unionactive/view_calendar.cfm&calendarID=11273975&thisdate=03/05/2020&useCalSection=main
LOCATION:
URL:http://opba.com/index.cfm?zone=/unionactive/view_calendar.cfm&calendarID=11273975&thisdate=03/05/2020&useCalSection=main
DTSTART:20200306T030000Z
DTEND:20200306T040000Z
DTSTAMP:20240302T090455
TRIGGER:-PT60M
END:VEVENT
END:VCALENDAR
