BEGIN:VCALENDAR
VERSION:2.0
CALSCALE:GREGORIAN
PRODID:UnionActive
BEGIN:VEVENT
UID:11273974@opba.com
SUMMARY:OPBA Board of Directors' Meeting
DESCRIPTION:Contact:  \nLink for more information: http://opba.com/index.cfm?zone=/unionactive/view_calendar.cfm&calendarID=11273974&thisdate=11/05/2020&useCalSection=main
LOCATION:
URL:http://opba.com/index.cfm?zone=/unionactive/view_calendar.cfm&calendarID=11273974&thisdate=11/05/2020&useCalSection=main
DTSTART:20201106T030000Z
DTEND:20201106T040000Z
DTSTAMP:20240302T090454
TRIGGER:-PT60M
END:VEVENT
END:VCALENDAR
