BEGIN:VCALENDAR
VERSION:2.0
CALSCALE:GREGORIAN
PRODID:UnionActive
BEGIN:VEVENT
UID:11273970@opba.com
SUMMARY:OPBA Board of Directors' Meeting
DESCRIPTION:Contact:  \nLink for more information: http://opba.com/index.cfm?zone=/unionactive/view_calendar.cfm&calendarID=11273970&thisdate=02/06/2020&useCalSection=main
LOCATION:
URL:http://opba.com/index.cfm?zone=/unionactive/view_calendar.cfm&calendarID=11273970&thisdate=02/06/2020&useCalSection=main
DTSTART:20200207T030000Z
DTEND:20200207T040000Z
DTSTAMP:20240302T090453
TRIGGER:-PT60M
END:VEVENT
END:VCALENDAR
