BEGIN:VCALENDAR
VERSION:2.0
CALSCALE:GREGORIAN
PRODID:UnionActive
BEGIN:VEVENT
UID:11273385@opba.com
SUMMARY:OPBA Members' Training
DESCRIPTION:Contact:  \nLink for more information: http://opba.com/index.cfm?zone=/unionactive/view_calendar.cfm&calendarID=11273385&thisdate=02/07/2020&useCalSection=main
LOCATION:North Royalton Office
URL:http://opba.com/index.cfm?zone=/unionactive/view_calendar.cfm&calendarID=11273385&thisdate=02/07/2020&useCalSection=main
DTSTART:20200207T160000Z
DTEND:20200208T010000Z
DTSTAMP:20240302T090454
TRIGGER:-PT60M
END:VEVENT
END:VCALENDAR
