BEGIN:VCALENDAR
VERSION:2.0
CALSCALE:GREGORIAN
PRODID:UnionActive
BEGIN:VEVENT
UID:10861251@opba.com
SUMMARY:General Membership Meeting
DESCRIPTION:Contact:  \nLink for more information: http://opba.com/index.cfm?zone=/unionactive/view_calendar.cfm&calendarID=10861251&thisdate=12/05/2019&useCalSection=main
LOCATION:
URL:http://opba.com/index.cfm?zone=/unionactive/view_calendar.cfm&calendarID=10861251&thisdate=12/05/2019&useCalSection=main
DTSTART:20191206T030000Z
DTEND:20191206T050000Z
DTSTAMP:20240302T090658
TRIGGER:-PT60M
END:VEVENT
END:VCALENDAR
