BEGIN:VCALENDAR
VERSION:2.0
CALSCALE:GREGORIAN
PRODID:UnionActive
BEGIN:VEVENT
UID:10861250@opba.com
SUMMARY:General Membership Meeting
DESCRIPTION:Contact:  \nLink for more information: http://opba.com/index.cfm?zone=/unionactive/view_calendar.cfm&calendarID=10861250&thisdate=10/03/2019&useCalSection=main
LOCATION:OPBA North Royalton Office
URL:http://opba.com/index.cfm?zone=/unionactive/view_calendar.cfm&calendarID=10861250&thisdate=10/03/2019&useCalSection=main
DTSTART:20191004T020000Z
DTEND:20191004T040000Z
DTSTAMP:20240302T090701
TRIGGER:-PT60M
END:VEVENT
END:VCALENDAR
