BEGIN:VCALENDAR
VERSION:2.0
CALSCALE:GREGORIAN
PRODID:UnionActive
BEGIN:VEVENT
UID:10861249@opba.com
SUMMARY:General Membership Meeting
DESCRIPTION:Contact:  \nLink for more information: http://opba.com/index.cfm?zone=/unionactive/view_calendar.cfm&calendarID=10861249&thisdate=03/07/2019&useCalSection=main
LOCATION:OPBA North Royalton Office
URL:http://opba.com/index.cfm?zone=/unionactive/view_calendar.cfm&calendarID=10861249&thisdate=03/07/2019&useCalSection=main
DTSTART:20190308T030000Z
DTEND:20190308T050000Z
DTSTAMP:20240302T090701
TRIGGER:-PT60M
END:VEVENT
END:VCALENDAR
