BEGIN:VCALENDAR
VERSION:2.0
CALSCALE:GREGORIAN
PRODID:UnionActive
BEGIN:VEVENT
UID:10861245@opba.com
SUMMARY:Director Meeting
DESCRIPTION:Contact:  \nLink for more information: http://opba.com/index.cfm?zone=/unionactive/view_calendar.cfm&calendarID=10861245&thisdate=04/04/2019&useCalSection=main
LOCATION:OPBA North Royalton Office
URL:http://opba.com/index.cfm?zone=/unionactive/view_calendar.cfm&calendarID=10861245&thisdate=04/04/2019&useCalSection=main
DTSTART:20190405T020000Z
DTEND:20190405T040000Z
DTSTAMP:20240302T090701
TRIGGER:-PT60M
END:VEVENT
END:VCALENDAR
